BEGIN:VCALENDAR
VERSION:2.0
PRODID:-//Airsoft Sport Club Linz - ECPv6.15.20//NONSGML v1.0//EN
CALSCALE:GREGORIAN
METHOD:PUBLISH
X-ORIGINAL-URL:https://ascl.at
X-WR-CALDESC:Veranstaltungen für Airsoft Sport Club Linz
REFRESH-INTERVAL;VALUE=DURATION:PT1H
X-Robots-Tag:noindex
X-PUBLISHED-TTL:PT1H
BEGIN:VTIMEZONE
TZID:Europe/Vienna
BEGIN:DAYLIGHT
TZOFFSETFROM:+0100
TZOFFSETTO:+0200
TZNAME:CEST
DTSTART:20240331T010000
END:DAYLIGHT
BEGIN:STANDARD
TZOFFSETFROM:+0200
TZOFFSETTO:+0100
TZNAME:CET
DTSTART:20241027T010000
END:STANDARD
BEGIN:DAYLIGHT
TZOFFSETFROM:+0100
TZOFFSETTO:+0200
TZNAME:CEST
DTSTART:20250330T010000
END:DAYLIGHT
BEGIN:STANDARD
TZOFFSETFROM:+0200
TZOFFSETTO:+0100
TZNAME:CET
DTSTART:20251026T010000
END:STANDARD
BEGIN:DAYLIGHT
TZOFFSETFROM:+0100
TZOFFSETTO:+0200
TZNAME:CEST
DTSTART:20260329T010000
END:DAYLIGHT
BEGIN:STANDARD
TZOFFSETFROM:+0200
TZOFFSETTO:+0100
TZNAME:CET
DTSTART:20261025T010000
END:STANDARD
END:VTIMEZONE
BEGIN:VEVENT
DTSTART;TZID=Europe/Vienna:20251101T100000
DTEND;TZID=Europe/Vienna:20251102T010000
DTSTAMP:20260423T121109
CREATED:20251021T072723Z
LAST-MODIFIED:20251030T150345Z
UID:1785-1761991200-1762045200@ascl.at
SUMMARY:Abgesagt: Halloweengame Rappottenstein
DESCRIPTION:Zeit für Gruselstimmung! Zum großen Finale der Saison 2025 laden wir – der ASCW und der ASCL – euch zum großen Halloween-Special nach Rappottenstein/NÖ ein! Erlebt eine Spieltag voll Spannung und Nervenkitzel\, wenn wir euch bis spät in die Nacht das Fürchten lehren! \n\n\n\nAnreise + Spiel\n\n\n\nFür die richtige Einstimmung könnt ihr uns bereits am Freitag Abend ab 16:00 besuchen und zelten (eigenes Zelt erforderlich!). \n\n\n\nGespielt wird am Samstag von 10:00 bis spätestens 01:00. \n\n\n\nUnd wer dann noch am Lagerfeuer Gruselgeschichten teilen möchte\, kann noch bis Sonntag Vormittag vor Ort campieren. \n\n\n\nNehmt zum Spiel unbedingt Tracer oder Licht mit! \n\n\n\nVerkleidung ausdrücklich erwünscht! \n\n\n\nAnmeldung\n\n\n\nAlle Informationen zur Anmeldung und die Tickets findet ihr im Forum des ASCW: Beitrag im ASCW-Forum https://forum.ascw.at/ (Registrierung/Anmeldung erforderlich!)
URL:https://ascl.at/event/halloweengame-2025/
LOCATION:Rappottenstein\, Gegenüber Roiten 27\, Roiten\, Niederösterreich\, 3911\, Austria
ATTACH;FMTTYPE=image/webp:https://ascl.at/wp-content/uploads/2025/10/2702-0853cb620d524f067b3a47be52413d45114e92abfa6c5cf9f76b6843939b2dcf-variant.webp
END:VEVENT
BEGIN:VEVENT
DTSTART;TZID=Europe/Vienna:20251114T080000
DTEND;TZID=Europe/Vienna:20251114T180000
DTSTAMP:20260423T121109
CREATED:20251030T151105Z
LAST-MODIFIED:20251030T151138Z
UID:1836-1763107200-1763143200@ascl.at
SUMMARY:Airsoft Stammtisch @JKU Linz
DESCRIPTION:Für’s Airsoft Spielen ist es zwar iun zwischen etwas zu kalt und feucht\, zum Zusammensitzen reichts aber noch allemal – diesmal probieren wir das LUI am Uni-Campus der JKU Linz aus. Hier habt ihr auch gleich Gelegenheit\, die wichtigstens Infos rund um zur unserer MilSim-Planung für das neuen Jahr zu erhalten. \n\n\n\nMan trifft sich!
URL:https://ascl.at/event/airsoft-stammtisch-november-2025/
CATEGORIES:Community Treffen
ATTACH;FMTTYPE=image/jpeg:https://ascl.at/wp-content/uploads/2025/10/480654040_1289980455996315_5361376035939718051_n.jpg
END:VEVENT
END:VCALENDAR